BEGIN:VCALENDAR
VERSION:2.0
PRODID:-//Knit at Night Guild - ECPv6.15.20//NONSGML v1.0//EN
CALSCALE:GREGORIAN
METHOD:PUBLISH
X-WR-CALNAME:Knit at Night Guild
X-ORIGINAL-URL:https://knitatnight.org
X-WR-CALDESC:Events for Knit at Night Guild
REFRESH-INTERVAL;VALUE=DURATION:PT1H
X-Robots-Tag:noindex
X-PUBLISHED-TTL:PT1H
BEGIN:VTIMEZONE
TZID:America/Chicago
BEGIN:DAYLIGHT
TZOFFSETFROM:-0600
TZOFFSETTO:-0500
TZNAME:CDT
DTSTART:20250309T080000
END:DAYLIGHT
BEGIN:STANDARD
TZOFFSETFROM:-0500
TZOFFSETTO:-0600
TZNAME:CST
DTSTART:20251102T070000
END:STANDARD
BEGIN:DAYLIGHT
TZOFFSETFROM:-0600
TZOFFSETTO:-0500
TZNAME:CDT
DTSTART:20260308T080000
END:DAYLIGHT
BEGIN:STANDARD
TZOFFSETFROM:-0500
TZOFFSETTO:-0600
TZNAME:CST
DTSTART:20261101T070000
END:STANDARD
BEGIN:DAYLIGHT
TZOFFSETFROM:-0600
TZOFFSETTO:-0500
TZNAME:CDT
DTSTART:20270314T080000
END:DAYLIGHT
BEGIN:STANDARD
TZOFFSETFROM:-0500
TZOFFSETTO:-0600
TZNAME:CST
DTSTART:20271107T070000
END:STANDARD
END:VTIMEZONE
BEGIN:VEVENT
DTSTART;VALUE=DATE:20260206
DTEND;VALUE=DATE:20260208
DTSTAMP:20260424T180343
CREATED:20250406T151028Z
LAST-MODIFIED:20250406T151028Z
UID:8237-1770336000-1770508799@knitatnight.org
SUMMARY:Yellow Rose on the Coast – Port Aransas\, TX
DESCRIPTION:Welcome to the 7th annual show\nFebruary 6\, 2026 10:00 am – 5:00 pm \nFebruary 7\, 2026 10:00 am to 5:00 pm \nAdmission is free \nPort Royal Ocean Resort & Conference Center \n6317 TX-31 \nPort Aransas\, TX  78873
URL:https://knitatnight.org/event/yellow-rose-on-the-coast-port-aransas-tx/
LOCATION:Port Royal Ocean Resort & Conference Center\, 6317 TX-31\, Port Aransas\, TX\, 78873\, United States
CATEGORIES:Community,Other Events
END:VEVENT
END:VCALENDAR