BEGIN:VCALENDAR
VERSION:2.0
PRODID:-//Knit at Night Guild - ECPv6.15.20//NONSGML v1.0//EN
CALSCALE:GREGORIAN
METHOD:PUBLISH
X-WR-CALNAME:Knit at Night Guild
X-ORIGINAL-URL:https://knitatnight.org
X-WR-CALDESC:Events for Knit at Night Guild
REFRESH-INTERVAL;VALUE=DURATION:PT1H
X-Robots-Tag:noindex
X-PUBLISHED-TTL:PT1H
BEGIN:VTIMEZONE
TZID:America/Chicago
BEGIN:DAYLIGHT
TZOFFSETFROM:-0600
TZOFFSETTO:-0500
TZNAME:CDT
DTSTART:20250309T080000
END:DAYLIGHT
BEGIN:STANDARD
TZOFFSETFROM:-0500
TZOFFSETTO:-0600
TZNAME:CST
DTSTART:20251102T070000
END:STANDARD
BEGIN:DAYLIGHT
TZOFFSETFROM:-0600
TZOFFSETTO:-0500
TZNAME:CDT
DTSTART:20260308T080000
END:DAYLIGHT
BEGIN:STANDARD
TZOFFSETFROM:-0500
TZOFFSETTO:-0600
TZNAME:CST
DTSTART:20261101T070000
END:STANDARD
BEGIN:DAYLIGHT
TZOFFSETFROM:-0600
TZOFFSETTO:-0500
TZNAME:CDT
DTSTART:20270314T080000
END:DAYLIGHT
BEGIN:STANDARD
TZOFFSETFROM:-0500
TZOFFSETTO:-0600
TZNAME:CST
DTSTART:20271107T070000
END:STANDARD
END:VTIMEZONE
BEGIN:VEVENT
DTSTART;VALUE=DATE:20260327
DTEND;VALUE=DATE:20260329
DTSTAMP:20260424T180632
CREATED:20250526T204139Z
LAST-MODIFIED:20250526T204139Z
UID:8364-1774569600-1774742399@knitatnight.org
SUMMARY:East Texas Fiber Festival – Canton\, TX
DESCRIPTION:
URL:https://knitatnight.org/event/east-texas-fiber-festival-canton-tx-2/
LOCATION:Civic Center\, 800 Flea Market Rd\, Canton\, TX\, 75103\, United States
CATEGORIES:Community,Other Events
END:VEVENT
END:VCALENDAR